BEGIN:VCALENDAR
VERSION:2.0
PRODID:-//Temesváros - ECPv6.15.14//NONSGML v1.0//EN
CALSCALE:GREGORIAN
METHOD:PUBLISH
X-WR-CALNAME:Temesváros
X-ORIGINAL-URL:https://temesvaros.ro
X-WR-CALDESC:Események Temesváros
REFRESH-INTERVAL;VALUE=DURATION:PT1H
X-Robots-Tag:noindex
X-PUBLISHED-TTL:PT1H
BEGIN:VTIMEZONE
TZID:Europe/Helsinki
BEGIN:DAYLIGHT
TZOFFSETFROM:+0200
TZOFFSETTO:+0300
TZNAME:EEST
DTSTART:20240331T010000
END:DAYLIGHT
BEGIN:STANDARD
TZOFFSETFROM:+0300
TZOFFSETTO:+0200
TZNAME:EET
DTSTART:20241027T010000
END:STANDARD
BEGIN:DAYLIGHT
TZOFFSETFROM:+0200
TZOFFSETTO:+0300
TZNAME:EEST
DTSTART:20250330T010000
END:DAYLIGHT
BEGIN:STANDARD
TZOFFSETFROM:+0300
TZOFFSETTO:+0200
TZNAME:EET
DTSTART:20251026T010000
END:STANDARD
BEGIN:DAYLIGHT
TZOFFSETFROM:+0200
TZOFFSETTO:+0300
TZNAME:EEST
DTSTART:20260329T010000
END:DAYLIGHT
BEGIN:STANDARD
TZOFFSETFROM:+0300
TZOFFSETTO:+0200
TZNAME:EET
DTSTART:20261025T010000
END:STANDARD
END:VTIMEZONE
BEGIN:VEVENT
DTSTART;TZID=Europe/Helsinki:20251105T160000
DTEND;TZID=Europe/Helsinki:20251105T173000
DTSTAMP:20260422T030927
CREATED:20251030T092230Z
LAST-MODIFIED:20251031T102929Z
UID:87659-1762358400-1762363800@temesvaros.ro
SUMMARY:Városismereti séta: "Így beszélnek ma hozzánk a kövek"
DESCRIPTION:A Bolyai János Szakkollégium szeretettel vár minden érdeklődőt egy különleges városismereti sétára Fodor Enikő vezetésével. Az esemény során Temesvár épületeinek\, stílusainak és történeteinek segítségével fedezzük fel a város múltját és jelenét – ahogyan “a kövek ma is hozzánk szólnak”. \n Időpont: november 5.\, 16:00 Találkozó: az Opera előtt Vezeti: Fodor Enikő
URL:https://temesvaros.ro/esemeny/varosismereti-seta-fodor-enikovel-igy-beszelnek-ma-hozzank-a-kovek/
LOCATION:Operaház\, Opera tér
ATTACH;FMTTYPE=image/jpeg:https://temesvaros.ro/wp-content/uploads/2025/10/Adobe-Express-file.jpg
END:VEVENT
END:VCALENDAR