BEGIN:VCALENDAR
VERSION:2.0
PRODID:-//Temesváros - ECPv6.15.14//NONSGML v1.0//EN
CALSCALE:GREGORIAN
METHOD:PUBLISH
X-WR-CALNAME:Temesváros
X-ORIGINAL-URL:https://temesvaros.ro
X-WR-CALDESC:Események Temesváros
REFRESH-INTERVAL;VALUE=DURATION:PT1H
X-Robots-Tag:noindex
X-PUBLISHED-TTL:PT1H
BEGIN:VTIMEZONE
TZID:Europe/Helsinki
BEGIN:DAYLIGHT
TZOFFSETFROM:+0200
TZOFFSETTO:+0300
TZNAME:EEST
DTSTART:20250330T010000
END:DAYLIGHT
BEGIN:STANDARD
TZOFFSETFROM:+0300
TZOFFSETTO:+0200
TZNAME:EET
DTSTART:20251026T010000
END:STANDARD
BEGIN:DAYLIGHT
TZOFFSETFROM:+0200
TZOFFSETTO:+0300
TZNAME:EEST
DTSTART:20260329T010000
END:DAYLIGHT
BEGIN:STANDARD
TZOFFSETFROM:+0300
TZOFFSETTO:+0200
TZNAME:EET
DTSTART:20261025T010000
END:STANDARD
BEGIN:DAYLIGHT
TZOFFSETFROM:+0200
TZOFFSETTO:+0300
TZNAME:EEST
DTSTART:20270328T010000
END:DAYLIGHT
BEGIN:STANDARD
TZOFFSETFROM:+0300
TZOFFSETTO:+0200
TZNAME:EET
DTSTART:20271031T010000
END:STANDARD
END:VTIMEZONE
BEGIN:VEVENT
DTSTART;TZID=Europe/Helsinki:20260422T180000
DTEND;TZID=Europe/Helsinki:20260422T200000
DTSTAMP:20260420T193611
CREATED:20260420T120621Z
LAST-MODIFIED:20260420T121413Z
UID:89591-1776880800-1776888000@temesvaros.ro
SUMMARY:TEMESVÁRI KÖZÉLETI KÁVÉHÁZ
DESCRIPTION:Meghívottunk dr. Varga Attila egyetemi tanár\, volt alkotmánybíró. Hatvanadik születésnapjára tisztelgő kötetet jelentetett meg a szakma. Bár képviselő\, politikus volt hosszú ideig\, a szakmai-jogi kérdések végig követték pályáját. Tudományos dolgozatainak mindig megvoltak a köznapi olvasatai. Csak címeket sorolva: Az igazságtól az igazságszolgáltatásig\, A nyelvi jogok alkotmányos szabályozása Romániában\, Az emberi méltóság jogi értelmezésének kérdései. Különösen fontosnak tűnik Az Alkotmánybíróság új hatásköre (Közhatóságok közötti alkotmányos természetű jogi konfliktusok megoldása) című dolgozata\, hiszen a speciális nyugdíjak kérdése\, mely hónapokon át tartotta feszültségben a közéletet\, ide (is) sorolható. Egy korábbi dolgozatában a román politikai rendszert atipikusnak minősítette. \nMeghívottunk mind az elmélet\, mind a gyakorlat oldaláról képes olyan kérdésekről vitázni\, mint: alkotmány és demokrácia\, jog és politika\, erkölcs és törvény. Egy sor izgalmas\, nagyon emberi kérdéssel várjuk dr. Varga Attilát az áprilisi Temesvári Közéleti Kávéház beszélgető asztalához. \n\n\n\nHázigazda: Bodó Barna\, Tamás Péter\n\n\nMindenkit szeretettel várunk!
URL:https://temesvaros.ro/esemeny/temesvari-kozeleti-kavehaz/
LOCATION:Magyar Ház\, Bd. Revoluției. 8.\, Timisoara
CATEGORIES:Közélet
END:VEVENT
END:VCALENDAR