BEGIN:VCALENDAR
VERSION:2.0
PRODID:-//Temesváros - ECPv6.15.14//NONSGML v1.0//EN
CALSCALE:GREGORIAN
METHOD:PUBLISH
X-WR-CALNAME:Temesváros
X-ORIGINAL-URL:https://temesvaros.ro
X-WR-CALDESC:Események Temesváros
REFRESH-INTERVAL;VALUE=DURATION:PT1H
X-Robots-Tag:noindex
X-PUBLISHED-TTL:PT1H
BEGIN:VTIMEZONE
TZID:Europe/Helsinki
BEGIN:DAYLIGHT
TZOFFSETFROM:+0200
TZOFFSETTO:+0300
TZNAME:EEST
DTSTART:20240331T010000
END:DAYLIGHT
BEGIN:STANDARD
TZOFFSETFROM:+0300
TZOFFSETTO:+0200
TZNAME:EET
DTSTART:20241027T010000
END:STANDARD
BEGIN:DAYLIGHT
TZOFFSETFROM:+0200
TZOFFSETTO:+0300
TZNAME:EEST
DTSTART:20250330T010000
END:DAYLIGHT
BEGIN:STANDARD
TZOFFSETFROM:+0300
TZOFFSETTO:+0200
TZNAME:EET
DTSTART:20251026T010000
END:STANDARD
BEGIN:DAYLIGHT
TZOFFSETFROM:+0200
TZOFFSETTO:+0300
TZNAME:EEST
DTSTART:20260329T010000
END:DAYLIGHT
BEGIN:STANDARD
TZOFFSETFROM:+0300
TZOFFSETTO:+0200
TZNAME:EET
DTSTART:20261025T010000
END:STANDARD
END:VTIMEZONE
BEGIN:VEVENT
DTSTART;TZID=Europe/Helsinki:20251018T100000
DTEND;TZID=Europe/Helsinki:20251018T100000
DTSTAMP:20260423T212421
CREATED:20251016T064154Z
LAST-MODIFIED:20251016T064353Z
UID:87566-1760781600-1760781600@temesvaros.ro
SUMMARY:Temesvár magyar öröksége - városnéző séta
DESCRIPTION:Tarts velünk a „Fedezd fel a városod!” sorozat újabb túráján! – „Temesvár magyar öröksége” – magyar nyelvű városnéző séta Kiss Ágnes vezetésével.\nTemesvár a multikulturalizmus kiemelkedő példája. Az elmúlt néhány száz évben különböző népcsoportok\, vallások és kultúrák éltek itt békésen egymás mellett. Ez a sokszínűség hozta létre azt a Temesvárt\, amit ma ismerünk. \nMelyek a magyar közösség emblematikus helyei és épületei? Kik a nevezetes személyiségek\, és hogyan befolyásolták a város fejlődését? Jelentkezz a túrára\, és fedezd fel mindezt egy vezetett sétán az alábbi útvonalon: Személyiségek sétánya (Anton Scudier park) – Piarista épületegyüttes – Győzelem tér – Bolyai János utca – Jenő herceg tér – Dóm tér – Evangélikus templom – Magyar Ház \nRészletek: Temesvár magyar öröksége – magyar nyelvű városnéző túra Kiss Ágnes idegenvezetővel\nDátum: 2025. október 18.\nKezdési időpont: 10:00\nKöltség: INGYENES\, regisztráció szükséges: https://forms.gle/CND6ZusHXbJRuA5C7\nHelyek száma korlátozott: 30 fő\nIdegenvezető: @Kiss Ágnes
URL:https://temesvaros.ro/esemeny/temesvar-magyar-oroksege-varosnezo-seta/
CATEGORIES:Városnézés
ATTACH;FMTTYPE=image/png:https://temesvaros.ro/wp-content/uploads/2025/10/temesvar-epitett-oroksege.png
END:VEVENT
END:VCALENDAR