BEGIN:VCALENDAR
VERSION:2.0
PRODID:-//Temesváros - ECPv6.15.14//NONSGML v1.0//EN
CALSCALE:GREGORIAN
METHOD:PUBLISH
X-WR-CALNAME:Temesváros
X-ORIGINAL-URL:https://temesvaros.ro
X-WR-CALDESC:Események Temesváros
REFRESH-INTERVAL;VALUE=DURATION:PT1H
X-Robots-Tag:noindex
X-PUBLISHED-TTL:PT1H
BEGIN:VTIMEZONE
TZID:Europe/Helsinki
BEGIN:DAYLIGHT
TZOFFSETFROM:+0200
TZOFFSETTO:+0300
TZNAME:EEST
DTSTART:20250330T010000
END:DAYLIGHT
BEGIN:STANDARD
TZOFFSETFROM:+0300
TZOFFSETTO:+0200
TZNAME:EET
DTSTART:20251026T010000
END:STANDARD
BEGIN:DAYLIGHT
TZOFFSETFROM:+0200
TZOFFSETTO:+0300
TZNAME:EEST
DTSTART:20260329T010000
END:DAYLIGHT
BEGIN:STANDARD
TZOFFSETFROM:+0300
TZOFFSETTO:+0200
TZNAME:EET
DTSTART:20261025T010000
END:STANDARD
BEGIN:DAYLIGHT
TZOFFSETFROM:+0200
TZOFFSETTO:+0300
TZNAME:EEST
DTSTART:20270328T010000
END:DAYLIGHT
BEGIN:STANDARD
TZOFFSETFROM:+0300
TZOFFSETTO:+0200
TZNAME:EET
DTSTART:20271031T010000
END:STANDARD
END:VTIMEZONE
BEGIN:VEVENT
DTSTART;TZID=Europe/Helsinki:20260429T193000
DTEND;TZID=Europe/Helsinki:20260429T210000
DTSTAMP:20260423T192455
CREATED:20260423T114331Z
LAST-MODIFIED:20260423T114954Z
UID:89609-1777491000-1777496400@temesvaros.ro
SUMMARY:Önismereti kör Baruta Krisztinával - Az egészséges önkép
DESCRIPTION:Önismereti kör Baruta Krisztinával \nÁprilis 29.19:30 Bolyai János Szakkollégium Konferenciaterme\nTéma: Az egészséges önkép\nEgy este\, ahol közelebb kerülhetsz önmagadhoz Beszélgetés\, felismerések és gyakorlati eszközök\, amelyek segítenek reálisabb\, szeretetteljesebb képet kialakítani magadról.\nVárunk\, ha szeretnél tudatosabban kapcsolódni önmagadhoz és erősíteni a belső egyensúlyodat.
URL:https://temesvaros.ro/esemeny/onismereti-kor-baruta-krisztinaval-az-egeszseges-onkep/
LOCATION:Bolyai János Szakkollégium\, General Ion Dragalina 9\, Timisoara
ATTACH;FMTTYPE=image/png:https://temesvaros.ro/wp-content/uploads/2026/04/image_2026-04-23_144238480.png
END:VEVENT
END:VCALENDAR