BEGIN:VCALENDAR
VERSION:2.0
PRODID:-//Temesváros - ECPv6.15.14//NONSGML v1.0//EN
CALSCALE:GREGORIAN
METHOD:PUBLISH
X-WR-CALNAME:Temesváros
X-ORIGINAL-URL:https://temesvaros.ro
X-WR-CALDESC:Események Temesváros
REFRESH-INTERVAL;VALUE=DURATION:PT1H
X-Robots-Tag:noindex
X-PUBLISHED-TTL:PT1H
BEGIN:VTIMEZONE
TZID:Europe/Helsinki
BEGIN:DAYLIGHT
TZOFFSETFROM:+0200
TZOFFSETTO:+0300
TZNAME:EEST
DTSTART:20240331T010000
END:DAYLIGHT
BEGIN:STANDARD
TZOFFSETFROM:+0300
TZOFFSETTO:+0200
TZNAME:EET
DTSTART:20241027T010000
END:STANDARD
BEGIN:DAYLIGHT
TZOFFSETFROM:+0200
TZOFFSETTO:+0300
TZNAME:EEST
DTSTART:20250330T010000
END:DAYLIGHT
BEGIN:STANDARD
TZOFFSETFROM:+0300
TZOFFSETTO:+0200
TZNAME:EET
DTSTART:20251026T010000
END:STANDARD
BEGIN:DAYLIGHT
TZOFFSETFROM:+0200
TZOFFSETTO:+0300
TZNAME:EEST
DTSTART:20260329T010000
END:DAYLIGHT
BEGIN:STANDARD
TZOFFSETFROM:+0300
TZOFFSETTO:+0200
TZNAME:EET
DTSTART:20261025T010000
END:STANDARD
END:VTIMEZONE
BEGIN:VEVENT
DTSTART;TZID=Europe/Helsinki:20250825T000000
DTEND;TZID=Europe/Helsinki:20250825T000000
DTSTAMP:20260421T152504
CREATED:20250625T184213Z
LAST-MODIFIED:20250626T103410Z
UID:86718-1756080000-1756080000@temesvaros.ro
SUMMARY:NYÁRI BEJÁRÓTÁBOR (Magyar Ház)
DESCRIPTION:Újrahasználásra fel! \n\n\nNYÁRI BEJÁRÓTÁBOR – augusztus 25–29.\n10–15 évesek figyelem!\n\n\nSzeretsz alkotni? Kipróbálnál új technikákat?\nÉs közben tennél valamit a környezetért is? \nAkkor itt a helyed!\n\n\n Izgalmas kézműves foglalkozások\, újrahasznosítás kreatívan\, szuper hangulat – mindez egy helyen!\n\n\n Amit készítesz\, kiállításra kerül Szegeden és Temesváron is – mindkettőn számítunk rád!\n\n\n A tábor teljesen ingyenes\, de a helyek száma korlátozott – ha szeretnél részt venni\, töltsd ki az alábbi kérdőívet:\n\n\nhttps://docs.google.com/…/19Gst_xBNntBT1Zp…/preview\n\n\n Megtanulunk többféle újrahasznosító technikát\n\n\n Közösen alkotunk\n\n\n És minden nap izgalmas programokkal várunk!\n\n\n Alkotás – Tudatosság – Szórakozás – Barátság\n\n\n Helyszín: Temesvári Magyar Ház\n\n\n Információ:\nAdorjányi Borbála – 0742 869 734\nKása Melinda – 0726 835 423
URL:https://temesvaros.ro/esemeny/nyari-bejarotabor-magyar-haz/
LOCATION:Magyar Ház\, Bd. Revoluției. 8.\, Timisoara
CATEGORIES:Bejárótábor,Gyermekprogram,Játék,Kézműves foglalkozás
ATTACH;FMTTYPE=image/jpeg:https://temesvaros.ro/wp-content/uploads/2025/06/502651168_693310023423415_2657289389855296582_n.jpg
END:VEVENT
END:VCALENDAR