BEGIN:VCALENDAR
VERSION:2.0
PRODID:-//Temesváros - ECPv6.15.14//NONSGML v1.0//EN
CALSCALE:GREGORIAN
METHOD:PUBLISH
X-WR-CALNAME:Temesváros
X-ORIGINAL-URL:https://temesvaros.ro
X-WR-CALDESC:Események Temesváros
REFRESH-INTERVAL;VALUE=DURATION:PT1H
X-Robots-Tag:noindex
X-PUBLISHED-TTL:PT1H
BEGIN:VTIMEZONE
TZID:Europe/Helsinki
BEGIN:DAYLIGHT
TZOFFSETFROM:+0200
TZOFFSETTO:+0300
TZNAME:EEST
DTSTART:20240331T010000
END:DAYLIGHT
BEGIN:STANDARD
TZOFFSETFROM:+0300
TZOFFSETTO:+0200
TZNAME:EET
DTSTART:20241027T010000
END:STANDARD
BEGIN:DAYLIGHT
TZOFFSETFROM:+0200
TZOFFSETTO:+0300
TZNAME:EEST
DTSTART:20250330T010000
END:DAYLIGHT
BEGIN:STANDARD
TZOFFSETFROM:+0300
TZOFFSETTO:+0200
TZNAME:EET
DTSTART:20251026T010000
END:STANDARD
BEGIN:DAYLIGHT
TZOFFSETFROM:+0200
TZOFFSETTO:+0300
TZNAME:EEST
DTSTART:20260329T010000
END:DAYLIGHT
BEGIN:STANDARD
TZOFFSETFROM:+0300
TZOFFSETTO:+0200
TZNAME:EET
DTSTART:20261025T010000
END:STANDARD
END:VTIMEZONE
BEGIN:VEVENT
DTSTART;TZID=Europe/Helsinki:20251024T180000
DTEND;TZID=Europe/Helsinki:20251024T180000
DTSTAMP:20260421T190851
CREATED:20251014T061817Z
LAST-MODIFIED:20251014T062033Z
UID:87515-1761328800-1761328800@temesvaros.ro
SUMMARY:Második Mesekocsma – mese\, bor\, muzsika felnőtteknek
DESCRIPTION:Második Mesekocsma – mese\, bor\, muzsika felnőtteknek \nA TEIS szervezésében \nKós Károly Közösségi Központ – Temesvár\, Putna utca 7.\n2025. Október 24. | péntek | 18:00 \nSzeretettel várunk minden mesekedvelőt egy különleges felnőtt meseestre\, ahol a mesék nemcsak elgondolkodtatnak\, hanem közösséget teremtenek – ahogy régen is tették. \nTudtad? A mese legalább 100 éven át felnőttekhez szólt – fonók\, tollfosztók\, kukoricahántások idején. Ma új alkalmat kell teremtenünk arra\, hogy együtt hallgassunk mesét – közösen\, nevetve\, borral a kézben.\nÍgy született meg a mesekocsma műfaja\, és így jött létre ez az este is. \nMesél: Tőtős Hortenzia\, néptáncpedagógus\, mesemondó\nBor: Kulik Pince (Zala megye)\nFinomságok: borkorcsolyának ízletes sajtostálakat kínálunk\nJó muzsika \nEz az este nemcsak mesehallgatás. Ez egy kulturált kikapcsolódás\, ahol a mese\, a zene és a bor találkozik – és remélhetőleg Te is ott leszel. \nA rendezvény belépő díja 30lej .\nA férőhelyek száma korlátozott\, ezért regisztrációhoz kötött! \nRegisztráció szándékukat kérjük jelezzék az alábbi telefonszámokon\, 2025.10.20-ig \nTőtős István- 0746669230 \nPatik Izabella- 0741062592 \nVirágh Edy – 0766296631 \nIenei Csaba- 0721298002
URL:https://temesvaros.ro/esemeny/masodik-mesekocsma-mese-bor-muzsika-felnotteknek2/
LOCATION:Kós Károly Közösségi Központ\, Putna utca 7.
CATEGORIES:Előadás
ATTACH;FMTTYPE=image/jpeg:https://temesvaros.ro/wp-content/uploads/2025/10/WhatsApp-Image-2025-10-14-at-08.51.26_b8775326.jpg
END:VEVENT
END:VCALENDAR