BEGIN:VCALENDAR
VERSION:2.0
PRODID:-//Temesváros - ECPv6.15.14//NONSGML v1.0//EN
CALSCALE:GREGORIAN
METHOD:PUBLISH
X-WR-CALNAME:Temesváros
X-ORIGINAL-URL:https://temesvaros.ro
X-WR-CALDESC:Események Temesváros
REFRESH-INTERVAL;VALUE=DURATION:PT1H
X-Robots-Tag:noindex
X-PUBLISHED-TTL:PT1H
BEGIN:VTIMEZONE
TZID:Europe/Helsinki
BEGIN:DAYLIGHT
TZOFFSETFROM:+0200
TZOFFSETTO:+0300
TZNAME:EEST
DTSTART:20240331T010000
END:DAYLIGHT
BEGIN:STANDARD
TZOFFSETFROM:+0300
TZOFFSETTO:+0200
TZNAME:EET
DTSTART:20241027T010000
END:STANDARD
BEGIN:DAYLIGHT
TZOFFSETFROM:+0200
TZOFFSETTO:+0300
TZNAME:EEST
DTSTART:20250330T010000
END:DAYLIGHT
BEGIN:STANDARD
TZOFFSETFROM:+0300
TZOFFSETTO:+0200
TZNAME:EET
DTSTART:20251026T010000
END:STANDARD
BEGIN:DAYLIGHT
TZOFFSETFROM:+0200
TZOFFSETTO:+0300
TZNAME:EEST
DTSTART:20260329T010000
END:DAYLIGHT
BEGIN:STANDARD
TZOFFSETFROM:+0300
TZOFFSETTO:+0200
TZNAME:EET
DTSTART:20261025T010000
END:STANDARD
END:VTIMEZONE
BEGIN:VEVENT
DTSTART;TZID=Europe/Helsinki:20251112T140000
DTEND;TZID=Europe/Helsinki:20251112T163000
DTSTAMP:20260421T191922
CREATED:20251107T111038Z
LAST-MODIFIED:20251107T111038Z
UID:87800-1762956000-1762965000@temesvaros.ro
SUMMARY:KultúrPéntek 12.0 záróesemény - kiértékelő workshop / Vinerea Culturală 12.0 - Workshop de evaluare
DESCRIPTION:HU:Várunk mindenkit a Multifunkcionális terembe!\nA program során bemutatásra kerülnek a művészeti workshopok keretében megvalósult közös projektek\, valamint ismertetjük a résztvevők visszajelzéseit. A találkozó célja\, hogy közös gondolkodásra és eszmecserére adjon lehetőséget a kulturális és oktatási szféra közötti kapcsolatok erősítéséről\, valamint arról\, miként segíthetik az ilyen típusú programok a fiatalok bevonását és fejlődését.\nA műhely alkalmat teremt a projekt céljaihoz kapcsolódó legfontosabb kérdések megvitatására\, tapasztalatcserére és javaslatok megfogalmazására.\nRO:Toți participanții sunt invitați în Sala Multifuncțională.\nÎn cadrul programului vor fi prezentate proiectele comune realizate în urma atelierelor artistice\, precum și feedbackul participanților. Scopul întâlnirii este de a oferi un spațiu de reflecție comună și de schimb de idei privind consolidarea legăturilor dintre domeniul cultural și cel educațional\, precum și modalitățile prin care astfel de programe pot sprijini implicarea și dezvoltarea tinerilor.\nAtelierul oferă un cadru potrivit pentru dezbaterea principalelor aspecte legate de obiectivele proiectului\, pentru schimbul de experiențe și formularea de propuneri concrete.
URL:https://temesvaros.ro/esemeny/kulturpentek-12-0-zaroesemeny-kiertekelo-workshop-vinerea-culturala-12-0-workshop-de-evaluare/
LOCATION:Bartók Béla Elméleti Líceum\, Gen. Ion Dragalina sgt. 11/A\, Timisoara\, 300181\, Romania
ATTACH;FMTTYPE=image/jpeg:https://temesvaros.ro/wp-content/uploads/2025/11/kulturpentek-romanul-magyarul-kep-scaled.jpg
END:VEVENT
END:VCALENDAR