BEGIN:VCALENDAR
VERSION:2.0
PRODID:-//Temesváros - ECPv6.15.14//NONSGML v1.0//EN
CALSCALE:GREGORIAN
METHOD:PUBLISH
X-WR-CALNAME:Temesváros
X-ORIGINAL-URL:https://temesvaros.ro
X-WR-CALDESC:Események Temesváros
REFRESH-INTERVAL;VALUE=DURATION:PT1H
X-Robots-Tag:noindex
X-PUBLISHED-TTL:PT1H
BEGIN:VTIMEZONE
TZID:Europe/Helsinki
BEGIN:DAYLIGHT
TZOFFSETFROM:+0200
TZOFFSETTO:+0300
TZNAME:EEST
DTSTART:20240331T010000
END:DAYLIGHT
BEGIN:STANDARD
TZOFFSETFROM:+0300
TZOFFSETTO:+0200
TZNAME:EET
DTSTART:20241027T010000
END:STANDARD
BEGIN:DAYLIGHT
TZOFFSETFROM:+0200
TZOFFSETTO:+0300
TZNAME:EEST
DTSTART:20250330T010000
END:DAYLIGHT
BEGIN:STANDARD
TZOFFSETFROM:+0300
TZOFFSETTO:+0200
TZNAME:EET
DTSTART:20251026T010000
END:STANDARD
BEGIN:DAYLIGHT
TZOFFSETFROM:+0200
TZOFFSETTO:+0300
TZNAME:EEST
DTSTART:20260329T010000
END:DAYLIGHT
BEGIN:STANDARD
TZOFFSETFROM:+0300
TZOFFSETTO:+0200
TZNAME:EET
DTSTART:20261025T010000
END:STANDARD
END:VTIMEZONE
BEGIN:VEVENT
DTSTART;TZID=Europe/Helsinki:20251106T190000
DTEND;TZID=Europe/Helsinki:20251106T203000
DTSTAMP:20260422T035548
CREATED:20251103T093655Z
LAST-MODIFIED:20251103T110513Z
UID:87739-1762455600-1762461000@temesvaros.ro
SUMMARY:Karriertanácsadás egyetemi hallgatóknak
DESCRIPTION:Miről lesz szó?\n Megtudhatod\, milyen helyzetekben segít a karriertanácsadás? Kitölthetsz egy BIG FIVE típusú személyiségtesztet karriertanácsadás céljából Részt vehetsz a következő karriertanácsadási programok véglegesítésében: önéletraj és motivációs levél írása\, állásinterjúra való felkészülés\, HR-es szakértővel való találkozó\, job shadowing program\n 2025. november 6. |  19:00 Helyszín: Bolyai Szakkollégium\nFoglalkozásvezető: Erdei Ildikó pályaválasztási tanácsadó
URL:https://temesvaros.ro/esemeny/karriertanacsadas-egyetemi-hallgatoknak/
LOCATION:Bolyai János Szakkollégium\, General Ion Dragalina 9\, Timisoara
ATTACH;FMTTYPE=image/jpeg:https://temesvaros.ro/wp-content/uploads/2025/11/Karriertanacsadas.jpg
END:VEVENT
END:VCALENDAR