BEGIN:VCALENDAR
VERSION:2.0
PRODID:-//Temesváros - ECPv6.15.14//NONSGML v1.0//EN
CALSCALE:GREGORIAN
METHOD:PUBLISH
X-WR-CALNAME:Temesváros
X-ORIGINAL-URL:https://temesvaros.ro
X-WR-CALDESC:Események Temesváros
REFRESH-INTERVAL;VALUE=DURATION:PT1H
X-Robots-Tag:noindex
X-PUBLISHED-TTL:PT1H
BEGIN:VTIMEZONE
TZID:Europe/Helsinki
BEGIN:DAYLIGHT
TZOFFSETFROM:+0200
TZOFFSETTO:+0300
TZNAME:EEST
DTSTART:20250330T010000
END:DAYLIGHT
BEGIN:STANDARD
TZOFFSETFROM:+0300
TZOFFSETTO:+0200
TZNAME:EET
DTSTART:20251026T010000
END:STANDARD
BEGIN:DAYLIGHT
TZOFFSETFROM:+0200
TZOFFSETTO:+0300
TZNAME:EEST
DTSTART:20260329T010000
END:DAYLIGHT
BEGIN:STANDARD
TZOFFSETFROM:+0300
TZOFFSETTO:+0200
TZNAME:EET
DTSTART:20261025T010000
END:STANDARD
BEGIN:DAYLIGHT
TZOFFSETFROM:+0200
TZOFFSETTO:+0300
TZNAME:EEST
DTSTART:20270328T010000
END:DAYLIGHT
BEGIN:STANDARD
TZOFFSETFROM:+0300
TZOFFSETTO:+0200
TZNAME:EET
DTSTART:20271031T010000
END:STANDARD
END:VTIMEZONE
BEGIN:VEVENT
DTSTART;TZID=Europe/Helsinki:20260426T180000
DTEND;TZID=Europe/Helsinki:20260426T180000
DTSTAMP:20260421T133036
CREATED:20260417T193144Z
LAST-MODIFIED:20260417T193343Z
UID:89582-1777226400-1777226400@temesvaros.ro
SUMMARY:FARKAS LÁSZLÓ teremavatás & VÁRBÁSTYA 10 éves évforduló
DESCRIPTION:Időpont: 2026 április 26.\, vasárnap\, 18:00 óra\nSzínhely: Temesvári Magyar Ház\, Revolutiei 1989 sugárút 8.szám\n2026 április 26-án\, vasárnap este 18 órától kerül sor a FARKAS LÁSZLÓ terem felavatására és a VÁRBÁSTYA EGYESÜLET ünnepi\, évfordulós rendezvényére a Magyar Házban.\nProgram:\n• Ünnepi beszédek és áldás\n• Megemlékező koncert a Quo Vadis együttes tagjainak előadásában\, fellépnek: Borbély Szilárd\, Kis Attila és Teodor Pop\n• Állófogadás és koccintás\nFigyelem!\nA részvétel ingyenes\, viszont tekintettel a korlátozott számú helyekre\, csak regisztráció alapján lehetséges az alábbi linken:\nhttps://forms.gle/CSNS2ne1fVcAnZMf9
URL:https://temesvaros.ro/esemeny/farkas-laszlo-teremavatas-varbastya-10-eves-evfordulo/
LOCATION:Magyar Ház\, Bd. Revoluției. 8.\, Timisoara
CATEGORIES:Avatás
ATTACH;FMTTYPE=image/jpeg:https://temesvaros.ro/wp-content/uploads/2026/04/Farkas-Laszlo-teremavatas-beharangozo-1.jpg
END:VEVENT
END:VCALENDAR