BEGIN:VCALENDAR
VERSION:2.0
PRODID:-//Temesváros - ECPv6.15.14//NONSGML v1.0//EN
CALSCALE:GREGORIAN
METHOD:PUBLISH
X-WR-CALNAME:Temesváros
X-ORIGINAL-URL:https://temesvaros.ro
X-WR-CALDESC:Események Temesváros
REFRESH-INTERVAL;VALUE=DURATION:PT1H
X-Robots-Tag:noindex
X-PUBLISHED-TTL:PT1H
BEGIN:VTIMEZONE
TZID:Europe/Helsinki
BEGIN:DAYLIGHT
TZOFFSETFROM:+0200
TZOFFSETTO:+0300
TZNAME:EEST
DTSTART:20240331T010000
END:DAYLIGHT
BEGIN:STANDARD
TZOFFSETFROM:+0300
TZOFFSETTO:+0200
TZNAME:EET
DTSTART:20241027T010000
END:STANDARD
BEGIN:DAYLIGHT
TZOFFSETFROM:+0200
TZOFFSETTO:+0300
TZNAME:EEST
DTSTART:20250330T010000
END:DAYLIGHT
BEGIN:STANDARD
TZOFFSETFROM:+0300
TZOFFSETTO:+0200
TZNAME:EET
DTSTART:20251026T010000
END:STANDARD
BEGIN:DAYLIGHT
TZOFFSETFROM:+0200
TZOFFSETTO:+0300
TZNAME:EEST
DTSTART:20260329T010000
END:DAYLIGHT
BEGIN:STANDARD
TZOFFSETFROM:+0300
TZOFFSETTO:+0200
TZNAME:EET
DTSTART:20261025T010000
END:STANDARD
END:VTIMEZONE
BEGIN:VEVENT
DTSTART;TZID=Europe/Helsinki:20251111T190000
DTEND;TZID=Europe/Helsinki:20251111T203000
DTSTAMP:20260421T233110
CREATED:20251024T083342Z
LAST-MODIFIED:20251024T083342Z
UID:87635-1762887600-1762893000@temesvaros.ro
SUMMARY:Bolyai Kutatói Klub - Témaválasztás
DESCRIPTION:📚Bolyai Kutatói Klub – Témaválasztás \n Bolyai Kutatói Klub – Találkozás a mentorokkal november 11.\, 19:00 Bolyai János Szakkollégium\nIsmerkedj meg a mentorokkal \, fedezd fel a kutatási lehetőségeket  és készülj inspiráltan a szakdolgozati munkára !
URL:https://temesvaros.ro/esemeny/bolyai-kutatoi-klub-temavalasztas/
LOCATION:Bolyai János Szakkollégium\, General Ion Dragalina 9\, Timisoara
ATTACH;FMTTYPE=image/jpeg:https://temesvaros.ro/wp-content/uploads/2025/10/BKK.jpg
END:VEVENT
END:VCALENDAR