BEGIN:VCALENDAR
VERSION:2.0
PRODID:-//Temesváros - ECPv6.15.14//NONSGML v1.0//EN
CALSCALE:GREGORIAN
METHOD:PUBLISH
X-WR-CALNAME:Temesváros
X-ORIGINAL-URL:https://temesvaros.ro
X-WR-CALDESC:Események Temesváros
REFRESH-INTERVAL;VALUE=DURATION:PT1H
X-Robots-Tag:noindex
X-PUBLISHED-TTL:PT1H
BEGIN:VTIMEZONE
TZID:Europe/Helsinki
BEGIN:DAYLIGHT
TZOFFSETFROM:+0200
TZOFFSETTO:+0300
TZNAME:EEST
DTSTART:20240331T010000
END:DAYLIGHT
BEGIN:STANDARD
TZOFFSETFROM:+0300
TZOFFSETTO:+0200
TZNAME:EET
DTSTART:20241027T010000
END:STANDARD
BEGIN:DAYLIGHT
TZOFFSETFROM:+0200
TZOFFSETTO:+0300
TZNAME:EEST
DTSTART:20250330T010000
END:DAYLIGHT
BEGIN:STANDARD
TZOFFSETFROM:+0300
TZOFFSETTO:+0200
TZNAME:EET
DTSTART:20251026T010000
END:STANDARD
BEGIN:DAYLIGHT
TZOFFSETFROM:+0200
TZOFFSETTO:+0300
TZNAME:EEST
DTSTART:20260329T010000
END:DAYLIGHT
BEGIN:STANDARD
TZOFFSETFROM:+0300
TZOFFSETTO:+0200
TZNAME:EET
DTSTART:20261025T010000
END:STANDARD
END:VTIMEZONE
BEGIN:VEVENT
DTSTART;TZID=Europe/Helsinki:20251103T160000
DTEND;TZID=Europe/Helsinki:20251103T160000
DTSTAMP:20260421T232827
CREATED:20251102T111103Z
LAST-MODIFIED:20251102T111139Z
UID:87731-1762185600-1762185600@temesvaros.ro
SUMMARY:Bolyai János - november 3
DESCRIPTION:november 3-án keltezte Bolyai János levelét édesapjának\, amiben hírül adja : „a semmiből egy ujj\, más világot teremtettem.”\n\nEbből az alkalomból egy rövid\, koszorúzással egybekötött megemlékezést tartunk a Bolyai János emléktáblánál (Bolyai utca sarka)\, november 3-án\, hétfőn 16.00 órai kezdettel. \nAki teheti\, sétáljon arra! \nEgy fontos dátum Temesvár történelmében\, a magyar tudomány történetében! \nNem mellesleg\, nagyon szép idő lesz.
URL:https://temesvaros.ro/esemeny/bolyai-janos-november-3/
LOCATION:Bolyai János emléktáblánál
CATEGORIES:Megemlékezés
ATTACH;FMTTYPE=image/jpeg:https://temesvaros.ro/wp-content/uploads/2025/11/Bolyai-emlektabla.jpg
END:VEVENT
END:VCALENDAR