BEGIN:VCALENDAR
VERSION:2.0
PRODID:-//Temesváros - ECPv6.15.14//NONSGML v1.0//EN
CALSCALE:GREGORIAN
METHOD:PUBLISH
X-WR-CALNAME:Temesváros
X-ORIGINAL-URL:https://temesvaros.ro
X-WR-CALDESC:Események Temesváros
REFRESH-INTERVAL;VALUE=DURATION:PT1H
X-Robots-Tag:noindex
X-PUBLISHED-TTL:PT1H
BEGIN:VTIMEZONE
TZID:Europe/Helsinki
BEGIN:DAYLIGHT
TZOFFSETFROM:+0200
TZOFFSETTO:+0300
TZNAME:EEST
DTSTART:20240331T010000
END:DAYLIGHT
BEGIN:STANDARD
TZOFFSETFROM:+0300
TZOFFSETTO:+0200
TZNAME:EET
DTSTART:20241027T010000
END:STANDARD
BEGIN:DAYLIGHT
TZOFFSETFROM:+0200
TZOFFSETTO:+0300
TZNAME:EEST
DTSTART:20250330T010000
END:DAYLIGHT
BEGIN:STANDARD
TZOFFSETFROM:+0300
TZOFFSETTO:+0200
TZNAME:EET
DTSTART:20251026T010000
END:STANDARD
BEGIN:DAYLIGHT
TZOFFSETFROM:+0200
TZOFFSETTO:+0300
TZNAME:EEST
DTSTART:20260329T010000
END:DAYLIGHT
BEGIN:STANDARD
TZOFFSETFROM:+0300
TZOFFSETTO:+0200
TZNAME:EET
DTSTART:20261025T010000
END:STANDARD
END:VTIMEZONE
BEGIN:VEVENT
DTSTART;TZID=Europe/Helsinki:20251210T160000
DTEND;TZID=Europe/Helsinki:20251210T160000
DTSTAMP:20260423T212551
CREATED:20251124T133706Z
LAST-MODIFIED:20251124T133828Z
UID:88002-1765382400-1765382400@temesvaros.ro
SUMMARY:Aktív Szeniorok Klubja - Adventi találkozó
DESCRIPTION:Szeniorok Klubja \nTel: 0758-835961 \nHelyszín: Temesvári Magyar Ház\nIdőpont: 2025 . december 10.\, szerda \n16 órától \nEz alkalommal zenét hallgatunk\, beszélgetünk\, a hölgyekkel karácsonyi díszített gyertyákat készítünk s az urak részére is lesz elfoglaltság!
URL:https://temesvaros.ro/esemeny/aktiv-szeniorok-klubja-adventi-talalkozo/
LOCATION:Magyar Ház\, Bd. Revoluției. 8.\, Timisoara
CATEGORIES:Nyugdíjas klub
ATTACH;FMTTYPE=application/pdf:https://temesvaros.ro/wp-content/uploads/2025/11/Szenior-Klub-2025-december-10.pdf
END:VEVENT
END:VCALENDAR