BEGIN:VCALENDAR
VERSION:2.0
PRODID:-//Temesváros - ECPv6.15.14//NONSGML v1.0//EN
CALSCALE:GREGORIAN
METHOD:PUBLISH
X-WR-CALNAME:Temesváros
X-ORIGINAL-URL:https://temesvaros.ro
X-WR-CALDESC:Események Temesváros
REFRESH-INTERVAL;VALUE=DURATION:PT1H
X-Robots-Tag:noindex
X-PUBLISHED-TTL:PT1H
BEGIN:VTIMEZONE
TZID:Europe/Helsinki
BEGIN:DAYLIGHT
TZOFFSETFROM:+0200
TZOFFSETTO:+0300
TZNAME:EEST
DTSTART:20240331T010000
END:DAYLIGHT
BEGIN:STANDARD
TZOFFSETFROM:+0300
TZOFFSETTO:+0200
TZNAME:EET
DTSTART:20241027T010000
END:STANDARD
BEGIN:DAYLIGHT
TZOFFSETFROM:+0200
TZOFFSETTO:+0300
TZNAME:EEST
DTSTART:20250330T010000
END:DAYLIGHT
BEGIN:STANDARD
TZOFFSETFROM:+0300
TZOFFSETTO:+0200
TZNAME:EET
DTSTART:20251026T010000
END:STANDARD
BEGIN:DAYLIGHT
TZOFFSETFROM:+0200
TZOFFSETTO:+0300
TZNAME:EEST
DTSTART:20260329T010000
END:DAYLIGHT
BEGIN:STANDARD
TZOFFSETFROM:+0300
TZOFFSETTO:+0200
TZNAME:EET
DTSTART:20261025T010000
END:STANDARD
END:VTIMEZONE
BEGIN:VEVENT
DTSTART;TZID=Europe/Helsinki:20251112T180000
DTEND;TZID=Europe/Helsinki:20251112T193000
DTSTAMP:20260421T171902
CREATED:20251025T173341Z
LAST-MODIFIED:20251025T173341Z
UID:87642-1762970400-1762975800@temesvaros.ro
SUMMARY:A Rózsafa Éneke - Bánát és Dél-Erdélyi Turné
DESCRIPTION:A magyar lélek hangja\, zenetörténeti időutazás\nNehéz lenne olyan hangszert találni\, melynek hangja szebben meséli el a magyar történelem dicső korszakait\, mint a tárogató.A rózsafa éneke címet viselő zenei összeállítással II. Rákóczi Ferenc fejedelem személye előtt kívánunk tisztelegni.A koncerten elhangzó zenéket\, a XVII. – XVIII. századból fennmaradt ma már ritkán hallható zenei kincsekből válogattuk. A kuruc romantika és Rákóczi-dallamkör többszáz éves dallamai hangzanak fel.\nErdő Zoltán\, Erdélyi Magyar Örökség Díjas tárogatóművész\, Tiszteletbeli Székely a nagyapájától örökölt 120 éves rózsafa tárogatón folytatja zenei küldetését\, mely hangszer még a Magyar Királyság idejében készült az első magyar hangszergyárban. A zenei időutazáson elsősorban olyan ritkán hallható történelmi zeneművek szólalnak meg\, melyeknek gyökerei egészen II. Rákóczi Ferenc fejedelem idejébe kalauzolják a hallgatóságot.A különleges esemény alkalmával Erdő Zoltán tárogatóművész partnere Lisztes Jenő cimbalomművész\, aki művészetével mára a világ számos koncerttermeit bejárta\, legutóbb a New York-i Filharmonikusok vendégszólistájaként. Családjukban immáron a negyedik generáció óta örökíti tovább a cimbalomművészet különleges mesterségét.
URL:https://temesvaros.ro/esemeny/a-rozsafa-eneke-banat-es-del-erdelyi-turne/
LOCATION:Új Ezredév Református Központ\, Splaiul Morarilor 1\, Temesvár
CATEGORIES:Koncert
ATTACH;FMTTYPE=image/png:https://temesvaros.ro/wp-content/uploads/2025/10/2025-11-12-A-Rozsafa-Eneke-Erdo-Zoltan-Lisztes-Jeno.png
END:VEVENT
END:VCALENDAR